BEGIN:VCALENDAR
VERSION:2.0
PRODID:-//Will Cheshier - ECPv6.15.20//NONSGML v1.0//EN
CALSCALE:GREGORIAN
METHOD:PUBLISH
X-WR-CALNAME:Will Cheshier
X-ORIGINAL-URL:https://willcheshier.com
X-WR-CALDESC:Events for Will Cheshier
REFRESH-INTERVAL;VALUE=DURATION:PT1H
X-Robots-Tag:noindex
X-PUBLISHED-TTL:PT1H
BEGIN:VTIMEZONE
TZID:America/New_York
BEGIN:DAYLIGHT
TZOFFSETFROM:-0500
TZOFFSETTO:-0400
TZNAME:EDT
DTSTART:20230312T070000
END:DAYLIGHT
BEGIN:STANDARD
TZOFFSETFROM:-0400
TZOFFSETTO:-0500
TZNAME:EST
DTSTART:20231105T060000
END:STANDARD
BEGIN:DAYLIGHT
TZOFFSETFROM:-0500
TZOFFSETTO:-0400
TZNAME:EDT
DTSTART:20240310T070000
END:DAYLIGHT
BEGIN:STANDARD
TZOFFSETFROM:-0400
TZOFFSETTO:-0500
TZNAME:EST
DTSTART:20241103T060000
END:STANDARD
BEGIN:DAYLIGHT
TZOFFSETFROM:-0500
TZOFFSETTO:-0400
TZNAME:EDT
DTSTART:20250309T070000
END:DAYLIGHT
BEGIN:STANDARD
TZOFFSETFROM:-0400
TZOFFSETTO:-0500
TZNAME:EST
DTSTART:20251102T060000
END:STANDARD
BEGIN:DAYLIGHT
TZOFFSETFROM:-0500
TZOFFSETTO:-0400
TZNAME:EDT
DTSTART:20260308T070000
END:DAYLIGHT
BEGIN:STANDARD
TZOFFSETFROM:-0400
TZOFFSETTO:-0500
TZNAME:EST
DTSTART:20261101T060000
END:STANDARD
END:VTIMEZONE
BEGIN:VEVENT
DTSTART;TZID=America/New_York:20250725T183000
DTEND;TZID=America/New_York:20250725T203000
DTSTAMP:20260423T142549
CREATED:20250222T174335Z
LAST-MODIFIED:20250722T160113Z
UID:205-1753468200-1753475400@willcheshier.com
SUMMARY:Private Event
DESCRIPTION:Members only performance at Columbia Hills CC.
URL:https://willcheshier.com/event/private-event-8/
LOCATION:16200 E River Rd\, Columbia Station\, OH 44028\, 16200 E River Rd.\, Columbia Station\, OH\, 44028\, United States
CATEGORIES:Private Performance
END:VEVENT
BEGIN:VEVENT
DTSTART;TZID=America/New_York:20250724T180000
DTEND;TZID=America/New_York:20250724T200000
DTSTAMP:20260423T142549
CREATED:20250722T155948Z
LAST-MODIFIED:20250722T155955Z
UID:261-1753380000-1753387200@willcheshier.com
SUMMARY:Grand Pacific Junction Debut
DESCRIPTION:I’ll be performing out in the Gardens. the Sauced pizza truck will be there too. Beverages will be available for purchase.
URL:https://willcheshier.com/event/grand-pacific-junction-debut/
LOCATION:Grand Pacific Gardens\, 25629 Mill St.\, Olmsted Falls\, OH\, 44138\, United States
CATEGORIES:Public Performance
END:VEVENT
BEGIN:VEVENT
DTSTART;TZID=America/New_York:20250718T200000
DTEND;TZID=America/New_York:20250719T000000
DTSTAMP:20260423T142549
CREATED:20250710T200041Z
LAST-MODIFIED:20250710T200254Z
UID:249-1752868800-1752883200@willcheshier.com
SUMMARY:The Library Bar at Jack Casino
DESCRIPTION:Solo in the Library Bar. A cool room to take a break from all the action downstairs in the Casino up on the third floor.
URL:https://willcheshier.com/event/the-library-bar-at-jack-casino/
LOCATION:The Library Bar at Jack Casino\, JACK Cleveland Casino 100 Public Square\, Cleveland\, OH 44113\, United States\, Cleveland\, OH\, 44113\, United States
END:VEVENT
BEGIN:VEVENT
DTSTART;TZID=America/New_York:20250712T183000
DTEND;TZID=America/New_York:20250712T220000
DTSTAMP:20260423T142549
CREATED:20250710T195648Z
LAST-MODIFIED:20250710T195648Z
UID:247-1752345000-1752357600@willcheshier.com
SUMMARY:Private Event
DESCRIPTION:
URL:https://willcheshier.com/event/private-event-14/
LOCATION:OH
END:VEVENT
BEGIN:VEVENT
DTSTART;TZID=America/New_York:20250711T180000
DTEND;TZID=America/New_York:20250711T200000
DTSTAMP:20260423T142549
CREATED:20250710T195450Z
LAST-MODIFIED:20250710T195450Z
UID:245-1752256800-1752264000@willcheshier.com
SUMMARY:Shaker Square
DESCRIPTION:Live Music on the Square is returning this Summer! Join me for a laid-back summer evening of live music on the lawn outside Dave’s Market July 11th from 6:00–8:00 PM! Bring a blanket or a chair\, bring a friend\, and enjoy the rhythm of the Square. \nGo to the Shaker Square website for more information and events.
URL:https://willcheshier.com/event/shaker-square/
LOCATION:OH
END:VEVENT
BEGIN:VEVENT
DTSTART;TZID=America/New_York:20250607T080000
DTEND;TZID=America/New_York:20250607T193000
DTSTAMP:20260423T142549
CREATED:20250416T153901Z
LAST-MODIFIED:20250416T153901Z
UID:227-1749283200-1749324600@willcheshier.com
SUMMARY:Jack Bar at Jack Casino
DESCRIPTION:Solo in the 3rd floor rock bar. A cool room to take a break from all the action in the Casino.
URL:https://willcheshier.com/event/jack-bar-at-jack-casino/
LOCATION:The Library Bar at Jack Casino\, JACK Cleveland Casino 100 Public Square\, Cleveland\, OH 44113\, United States\, Cleveland\, OH\, 44113\, United States
END:VEVENT
BEGIN:VEVENT
DTSTART;TZID=America/New_York:20250523T080000
DTEND;TZID=America/New_York:20250523T173000
DTSTAMP:20260423T142549
CREATED:20250416T153027Z
LAST-MODIFIED:20250416T153027Z
UID:224-1747987200-1748021400@willcheshier.com
SUMMARY:Private Event
DESCRIPTION:
URL:https://willcheshier.com/event/private-event-11/
LOCATION:Lakewood Country Club\, Lakewood Country Club 2613 Bradley Rd\, Westlake\, OH 44145\, United States\, Westlake\, OH\, 44145\, United States
END:VEVENT
BEGIN:VEVENT
DTSTART;TZID=America/New_York:20250521T080000
DTEND;TZID=America/New_York:20250521T160000
DTSTAMP:20260423T142549
CREATED:20250416T152509Z
LAST-MODIFIED:20250416T152538Z
UID:218-1747814400-1747843200@willcheshier.com
SUMMARY:Music at the Key Center Marriott
DESCRIPTION:Live Local Music in the Key Center Marriott lobby. Lots of food options that smell really good when they’re being carried past me. Really friendly staff. Public is welcome so come hang out after work if you’re downtown and listen to some live music. Some swell musicians are playing here most Wednesdays and Fridays.
URL:https://willcheshier.com/event/music-at-the-key-center-marriott-3/
LOCATION:Key Center Marriott\, 1360 W Mall Dr.\, Cleveland\, 44114\, United States
END:VEVENT
BEGIN:VEVENT
DTSTART;TZID=America/New_York:20250517T080000
DTEND;TZID=America/New_York:20250517T140000
DTSTAMP:20260423T142549
CREATED:20250416T152832Z
LAST-MODIFIED:20250416T152924Z
UID:221-1747468800-1747490400@willcheshier.com
SUMMARY:Private Event
DESCRIPTION:
URL:https://willcheshier.com/event/private-event-10/
LOCATION:Lakewood Country Club\, Lakewood Country Club 2613 Bradley Rd\, Westlake\, OH 44145\, United States\, Westlake\, OH\, 44145\, United States
END:VEVENT
BEGIN:VEVENT
DTSTART;TZID=America/New_York:20250516T170000
DTEND;TZID=America/New_York:20250516T210000
DTSTAMP:20260423T142549
CREATED:20250424T150818Z
LAST-MODIFIED:20250424T151540Z
UID:239-1747414800-1747429200@willcheshier.com
SUMMARY:Burntwood Tavern Rocky River
DESCRIPTION:Live and solo acoustic guitar out in public!
URL:https://willcheshier.com/event/burntwood-tavern-rocky-river/
LOCATION:Burntwood Tavern Rocky River\, 19304 Detroit Rd.\, Rocky River\, OH\, 44116\, United States
CATEGORIES:Public Performance
END:VEVENT
BEGIN:VEVENT
DTSTART;TZID=America/New_York:20250515T080000
DTEND;TZID=America/New_York:20250515T170000
DTSTAMP:20260423T142549
CREATED:20250416T152313Z
LAST-MODIFIED:20250416T152346Z
UID:216-1747296000-1747328400@willcheshier.com
SUMMARY:First Tee Taste of the Tee 2025 Benefit
DESCRIPTION:First Tee – Cleveland has positively impacted more than 50\,000 kids ages 7-18 for over the past 22 years. Participant fees make up only 7% of the annual revenue needed to deliver First Tee’s life skills curriculum — proven to build character and confidence — and impact kids on and off the golf course\, and in the kitchen! \n• Brandon Chrostowski and his team from EDWINS will pair wines with exquisite cheeses & charcuterie. Brandon is recipient of the 2025 James Beard Foundation Impact Award! \n• TRI-C’s Hospitality Management team will feature delicious desserts \n• Live Auction & more! \nTickets: $175 per person Space is limited; Register today! Visit: https://Tee2025.givesmart.com
URL:https://willcheshier.com/event/first-tee-taste-of-the-tee-2025-benefit/
LOCATION:Woodworth Activity Center\, 3883 Washington Park Blvd\, Newburgh Heights\, OH\, 44105\, United States
END:VEVENT
BEGIN:VEVENT
DTSTART;TZID=America/New_York:20250430T080000
DTEND;TZID=America/New_York:20250430T160000
DTSTAMP:20260423T142549
CREATED:20250416T151518Z
LAST-MODIFIED:20250416T160121Z
UID:212-1746000000-1746028800@willcheshier.com
SUMMARY:Music at the Key Center Marriott
DESCRIPTION:Live Local Music in the Key Center Marriott lobby. Lots of food options that smell really good when they’re being carried past me. Really friendly staff. Public is welcome so come hang out after work if you’re downtown and listen to some live music. Some swell musicians are playing here most Wednesdays and Fridays.
URL:https://willcheshier.com/event/music-at-the-key-center-marriott-2/
LOCATION:Key Center Marriott\, 1360 W Mall Dr.\, Cleveland\, 44114\, United States
CATEGORIES:Public Performance
END:VEVENT
BEGIN:VEVENT
DTSTART;TZID=America/New_York:20250425T080000
DTEND;TZID=America/New_York:20250425T183000
DTSTAMP:20260423T142549
CREATED:20250416T151250Z
LAST-MODIFIED:20250416T160113Z
UID:208-1745568000-1745605800@willcheshier.com
SUMMARY:Private Event
DESCRIPTION:
URL:https://willcheshier.com/event/private-event-9/
LOCATION:Shaker Country Club\, 3300 Courtland Blvd\, Shaker Heights\, OH\, 44122\, United States
CATEGORIES:Private Performance
END:VEVENT
BEGIN:VEVENT
DTSTART;TZID=America/New_York:20250417T200000
DTEND;TZID=America/New_York:20250417T200000
DTSTAMP:20260423T142549
CREATED:20250416T155659Z
LAST-MODIFIED:20250416T160105Z
UID:232-1744920000-1744920000@willcheshier.com
SUMMARY:GS Harper’s Cleveland Jubilee!
DESCRIPTION:Another great lineup this month! Ten artists\, three songs each\, for a wonderful night of entertainment in super cool venue. Order will be decided right before the show. This month’s guests are- \nBill Lestock\nErin Mahon\nRyan Hetrick\nNoah Gittel\nKari Rutushin\nJP Hamm\nGreg Braun\nWill Cheshier\nChris Kuwamoto (Breakwater Acoustic)\nTom Gerard \nCome early to grab a drink and stake out a good seat!
URL:https://willcheshier.com/event/gs-harpers-cleveland-jubilee-2/
LOCATION:Dunlap’s Corner Bar\, 3258 West 32st\, Cleveland\, OH\, 44109\, United States
CATEGORIES:Public Performance
END:VEVENT
BEGIN:VEVENT
DTSTART;TZID=America/New_York:20250411T203000
DTEND;TZID=America/New_York:20250411T230000
DTSTAMP:20260423T142549
CREATED:20250216T171557Z
LAST-MODIFIED:20250216T171557Z
UID:197-1744403400-1744412400@willcheshier.com
SUMMARY:Rock Bar at Jack Casino
DESCRIPTION:Solo at the 3rd floor Rock Bar at Jack Casino
URL:https://willcheshier.com/event/rock-bar-at-jack-casino-3/
LOCATION:OH
CATEGORIES:Public Performance
END:VEVENT
BEGIN:VEVENT
DTSTART;TZID=America/New_York:20250410T170000
DTEND;TZID=America/New_York:20250410T200000
DTSTAMP:20260423T142549
CREATED:20250216T172251Z
LAST-MODIFIED:20250216T172251Z
UID:199-1744304400-1744315200@willcheshier.com
SUMMARY:First Tee 2025 Fundraiser
DESCRIPTION:First Tee is a youth development organization that enables kids to build the strength of character that empowers them through a lifetime of new challenges. By seamlessly integrating the game of golf with a life skills curriculum\, we create active learning experiences that build inner strength\, self-confidence\, and resilience that kids can carry to everything they do. We’re Building Game Changers through our junior golf programs. \nHopefully\, they don’t ask me to hit a golf ball. Something would get broken. Probably me.
URL:https://willcheshier.com/event/first-tee-2025-fundraiser/
LOCATION:Woodworth Activity Center\, 3883 Washington Park Blvd\, Newburgh Heights\, OH\, 44105\, United States
CATEGORIES:Private Performance
END:VEVENT
BEGIN:VEVENT
DTSTART;TZID=America/New_York:20250308T193000
DTEND;TZID=America/New_York:20250308T230000
DTSTAMP:20260423T142549
CREATED:20250216T171445Z
LAST-MODIFIED:20250216T171445Z
UID:195-1741462200-1741474800@willcheshier.com
SUMMARY:Rock Bar at Jack Casino
DESCRIPTION:Solo at the 3rd floor Rock Bar at Jack Casino
URL:https://willcheshier.com/event/rock-bar-at-jack-casino-2/
LOCATION:OH
CATEGORIES:Public Performance
END:VEVENT
BEGIN:VEVENT
DTSTART;TZID=America/New_York:20250228T080000
DTEND;TZID=America/New_York:20250228T170000
DTSTAMP:20260423T142549
CREATED:20250216T172709Z
LAST-MODIFIED:20250216T172748Z
UID:202-1740729600-1740762000@willcheshier.com
SUMMARY:Private Event
DESCRIPTION:
URL:https://willcheshier.com/event/private-event-7/
LOCATION:The Country Club\, 2825 Lander Rd.\, Pepper Pike\, OH\, 44124\, United States
CATEGORIES:Private Performance
END:VEVENT
BEGIN:VEVENT
DTSTART;TZID=America/New_York:20250226T160000
DTEND;TZID=America/New_York:20250226T190000
DTSTAMP:20260423T142549
CREATED:20250205T210817Z
LAST-MODIFIED:20250205T213827Z
UID:189-1740585600-1740596400@willcheshier.com
SUMMARY:Music at the Key Center Marriott
DESCRIPTION:Live Local Music in the Key Center Marriott lobby. Lots of food options that smell really good when they’re being carried past me. Really friendly staff. Public is welcome so come hang out after work if you’re downtown and listen to some live music. Some swell musicians are playing here most Wednesdays and Fridays.
URL:https://willcheshier.com/event/music-at-the-key-center-marriott/
LOCATION:OH
END:VEVENT
BEGIN:VEVENT
DTSTART;TZID=America/New_York:20250222T193000
DTEND;TZID=America/New_York:20250222T230000
DTSTAMP:20260423T142549
CREATED:20250205T210616Z
LAST-MODIFIED:20250205T210616Z
UID:187-1740252600-1740265200@willcheshier.com
SUMMARY:Rock Bar at Jack Casino
DESCRIPTION:Solo at the 3rd floor Rock Bar at Jack Casino
URL:https://willcheshier.com/event/rock-bar-at-jack-casino/
LOCATION:OH
END:VEVENT
BEGIN:VEVENT
DTSTART;TZID=America/New_York:20250221T183000
DTEND;TZID=America/New_York:20250221T203000
DTSTAMP:20260423T142549
CREATED:20250216T171330Z
LAST-MODIFIED:20250216T171330Z
UID:193-1740162600-1740169800@willcheshier.com
SUMMARY:Private Event
DESCRIPTION:
URL:https://willcheshier.com/event/private-event-6/
LOCATION:OH
CATEGORIES:Private Performance
END:VEVENT
BEGIN:VEVENT
DTSTART;TZID=America/New_York:20250214T173000
DTEND;TZID=America/New_York:20250214T203000
DTSTAMP:20260423T142549
CREATED:20250205T210038Z
LAST-MODIFIED:20250205T210249Z
UID:184-1739554200-1739565000@willcheshier.com
SUMMARY:Private Event
DESCRIPTION:Members only event at the Lakewood Country Club. \nI’m available for all manner of private events. Send me a message on the contact page if you’d like me to provide music for your event.
URL:https://willcheshier.com/event/private-event-5/
LOCATION:OH
END:VEVENT
BEGIN:VEVENT
DTSTART;TZID=America/New_York:20250129T160000
DTEND;TZID=America/New_York:20250129T190000
DTSTAMP:20260423T142549
CREATED:20241204T175529Z
LAST-MODIFIED:20250105T161320Z
UID:129-1738166400-1738177200@willcheshier.com
SUMMARY:Music at the Key Center Marriott
DESCRIPTION:Live Local Music in the Key Center Marriott lobby. Lots of food options that smell really good when they’re being carried past me. Really friendly staff. Public is welcome so come hang out after work if you’re downtown and listen to some live music. Some swell musicians are playing here most Wednesdays and Fridays.
URL:https://willcheshier.com/event/129/
LOCATION:Key Center Marriott\, 1360 W Mall Dr.\, Cleveland\, 44114\, United States
END:VEVENT
BEGIN:VEVENT
DTSTART;TZID=America/New_York:20250111T183000
DTEND;TZID=America/New_York:20250111T213000
DTSTAMP:20260423T142549
CREATED:20250105T160103Z
LAST-MODIFIED:20250105T160103Z
UID:132-1736620200-1736631000@willcheshier.com
SUMMARY:Private Event
DESCRIPTION:Members only in the Harbor Grill
URL:https://willcheshier.com/event/private-event-4/
LOCATION:Shoreby Club\, 40 Shoreby Dr.\, Bratenahl\, OH\, 44108\, United States
END:VEVENT
BEGIN:VEVENT
DTSTART;TZID=America/New_York:20241219T200000
DTEND;TZID=America/New_York:20241219T233000
DTSTAMP:20260423T142549
CREATED:20241204T174849Z
LAST-MODIFIED:20241204T174849Z
UID:123-1734638400-1734651000@willcheshier.com
SUMMARY:GS Harper’s Cleveland Jubilee!
DESCRIPTION:Another great lineup this month! Ten artists\, three songs each\, for a wonderful night of entertainment in super cool venue. Order will be decided right before the show. This month’s guests are-\nRyan Hetrick (he had to call in sick last time)Erin ScottDan HoltSisco and the BearcatDrew RochotteJP HammWaylon FingersWill CheshierJC DodgeMichael Sean McDonaldAdam Horvath\nCome early to grab a drink and stake out a good seat!
URL:https://willcheshier.com/event/gs-harpers-cleveland-jubilee/
LOCATION:Dunlap’s Corner Bar\, 3258 West 32st\, Cleveland\, OH\, 44109\, United States
END:VEVENT
BEGIN:VEVENT
DTSTART;TZID=America/New_York:20240705T190000
DTEND;TZID=America/New_York:20240705T220000
DTSTAMP:20260423T142549
CREATED:20240626T043703Z
LAST-MODIFIED:20240626T043703Z
UID:117-1720206000-1720216800@willcheshier.com
SUMMARY:Private Event
DESCRIPTION:I’m available for all manner of private events. Send me a message on the contact page if you’d like me to provide music for your event.
URL:https://willcheshier.com/event/private-event-3/
LOCATION:OH
CATEGORIES:Private Performance
END:VEVENT
BEGIN:VEVENT
DTSTART;TZID=America/New_York:20240629T080000
DTEND;TZID=America/New_York:20240629T170000
DTSTAMP:20260423T142549
CREATED:20240626T043522Z
LAST-MODIFIED:20240626T043543Z
UID:114-1719648000-1719680400@willcheshier.com
SUMMARY:Private Event
DESCRIPTION:I’m available for all manner of private events. Send me a message on the contact page if you’d like me to provide music for your event.
URL:https://willcheshier.com/event/private-event-2/
LOCATION:OH
CATEGORIES:Private Performance
END:VEVENT
BEGIN:VEVENT
DTSTART;TZID=America/New_York:20240628T180000
DTEND;TZID=America/New_York:20240628T220000
DTSTAMP:20260423T142549
CREATED:20240626T043126Z
LAST-MODIFIED:20240626T043225Z
UID:108-1719597600-1719612000@willcheshier.com
SUMMARY:Habitat for Humanity Raise the Roof
DESCRIPTION:
URL:https://willcheshier.com/event/habitat-for-humanity-raise-the-roof/
LOCATION:Meadow Ridge Events\, 17305 Mayfield Road\, Huntsburg\, OH\, 44099\, United States
CATEGORIES:Public Performance
END:VEVENT
BEGIN:VEVENT
DTSTART;TZID=America/New_York:20240622T173000
DTEND;TZID=America/New_York:20240622T203000
DTSTAMP:20260423T142549
CREATED:20240301T205357Z
LAST-MODIFIED:20240301T205357Z
UID:92-1719077400-1719088200@willcheshier.com
SUMMARY:Private Event
DESCRIPTION:I’m available for all manner of private events. Send me a message on the contact page if you’d like me to provide music for your event.
URL:https://willcheshier.com/event/private-event/
LOCATION:OH
CATEGORIES:Private Performance
END:VEVENT
END:VCALENDAR